BEGIN:VCALENDAR
VERSION:2.0
PRODID:-//MFSV Kaiserslautern - ECPv6.11.0.1//NONSGML v1.0//EN
CALSCALE:GREGORIAN
METHOD:PUBLISH
X-ORIGINAL-URL:https://mfsv-schallodenbach.de
X-WR-CALDESC:Veranstaltungen für MFSV Kaiserslautern
REFRESH-INTERVAL;VALUE=DURATION:PT1H
X-Robots-Tag:noindex
X-PUBLISHED-TTL:PT1H
BEGIN:VTIMEZONE
TZID:UTC
BEGIN:STANDARD
TZOFFSETFROM:+0000
TZOFFSETTO:+0000
TZNAME:UTC
DTSTART:20240101T000000
END:STANDARD
END:VTIMEZONE
BEGIN:VTIMEZONE
TZID:Europe/Paris
BEGIN:DAYLIGHT
TZOFFSETFROM:+0100
TZOFFSETTO:+0200
TZNAME:CEST
DTSTART:20240331T010000
END:DAYLIGHT
BEGIN:STANDARD
TZOFFSETFROM:+0200
TZOFFSETTO:+0100
TZNAME:CET
DTSTART:20241027T010000
END:STANDARD
END:VTIMEZONE
BEGIN:VEVENT
DTSTART;TZID=UTC:20260328T080000
DTEND;TZID=UTC:20260328T170000
DTSTAMP:20260422T160051
CREATED:20251202T143712Z
LAST-MODIFIED:20251202T143712Z
UID:1524-1774684800-1774717200@mfsv-schallodenbach.de
SUMMARY:Hallenfliegen Geschwister-Scholl-Schule
DESCRIPTION:
URL:https://mfsv-schallodenbach.de/event/hallenfliegen-geschwister-scholl-schule-50/
CATEGORIES:Hallenfliegen
END:VEVENT
BEGIN:VEVENT
DTSTART;TZID=UTC:20260314T160000
DTEND;TZID=UTC:20260314T180000
DTSTAMP:20260422T160051
CREATED:20251202T143656Z
LAST-MODIFIED:20251202T143656Z
UID:1522-1773504000-1773511200@mfsv-schallodenbach.de
SUMMARY:Hallenfliegen Geschwister-Scholl-Schule
DESCRIPTION:
URL:https://mfsv-schallodenbach.de/event/hallenfliegen-geschwister-scholl-schule-49/
CATEGORIES:Hallenfliegen
END:VEVENT
BEGIN:VEVENT
DTSTART;TZID=UTC:20260307T160000
DTEND;TZID=UTC:20260307T180000
DTSTAMP:20260422T160051
CREATED:20251202T143638Z
LAST-MODIFIED:20251202T143638Z
UID:1520-1772899200-1772906400@mfsv-schallodenbach.de
SUMMARY:Hallenfliegen Geschwister-Scholl-Schule
DESCRIPTION:
URL:https://mfsv-schallodenbach.de/event/hallenfliegen-geschwister-scholl-schule-48/
CATEGORIES:Hallenfliegen
END:VEVENT
BEGIN:VEVENT
DTSTART;TZID=UTC:20260228T160000
DTEND;TZID=UTC:20260228T180000
DTSTAMP:20260422T160051
CREATED:20251202T143613Z
LAST-MODIFIED:20251202T143613Z
UID:1518-1772294400-1772301600@mfsv-schallodenbach.de
SUMMARY:Hallenfliegen Geschwister-Scholl-Schule
DESCRIPTION:
URL:https://mfsv-schallodenbach.de/event/hallenfliegen-geschwister-scholl-schule-47/
CATEGORIES:Hallenfliegen
END:VEVENT
BEGIN:VEVENT
DTSTART;TZID=UTC:20260221T160000
DTEND;TZID=UTC:20260221T180000
DTSTAMP:20260422T160051
CREATED:20251202T143554Z
LAST-MODIFIED:20251202T143554Z
UID:1516-1771689600-1771696800@mfsv-schallodenbach.de
SUMMARY:Hallenfliegen Geschwister-Scholl-Schule
DESCRIPTION:
URL:https://mfsv-schallodenbach.de/event/hallenfliegen-geschwister-scholl-schule-46/
CATEGORIES:Hallenfliegen
END:VEVENT
BEGIN:VEVENT
DTSTART;TZID=UTC:20260214T160000
DTEND;TZID=UTC:20260214T180000
DTSTAMP:20260422T160051
CREATED:20251202T143536Z
LAST-MODIFIED:20251202T143536Z
UID:1514-1771084800-1771092000@mfsv-schallodenbach.de
SUMMARY:Hallenfliegen Geschwister-Scholl-Schule
DESCRIPTION:
URL:https://mfsv-schallodenbach.de/event/hallenfliegen-geschwister-scholl-schule-45/
CATEGORIES:Hallenfliegen
END:VEVENT
BEGIN:VEVENT
DTSTART;TZID=UTC:20260207T160000
DTEND;TZID=UTC:20260207T180000
DTSTAMP:20260422T160051
CREATED:20251202T143514Z
LAST-MODIFIED:20251202T143514Z
UID:1512-1770480000-1770487200@mfsv-schallodenbach.de
SUMMARY:Hallenfliegen Geschwister-Scholl-Schule
DESCRIPTION:
URL:https://mfsv-schallodenbach.de/event/hallenfliegen-geschwister-scholl-schule-44/
CATEGORIES:Hallenfliegen
END:VEVENT
BEGIN:VEVENT
DTSTART;TZID=UTC:20260124T160000
DTEND;TZID=UTC:20260124T180000
DTSTAMP:20260422T160051
CREATED:20251202T143456Z
LAST-MODIFIED:20251202T143456Z
UID:1510-1769270400-1769277600@mfsv-schallodenbach.de
SUMMARY:Hallenfliegen Geschwister-Scholl-Schule
DESCRIPTION:
URL:https://mfsv-schallodenbach.de/event/hallenfliegen-geschwister-scholl-schule-43/
CATEGORIES:Hallenfliegen
END:VEVENT
BEGIN:VEVENT
DTSTART;TZID=UTC:20251220T160000
DTEND;TZID=UTC:20251220T180000
DTSTAMP:20260422T160051
CREATED:20251202T143434Z
LAST-MODIFIED:20251202T143434Z
UID:1508-1766246400-1766253600@mfsv-schallodenbach.de
SUMMARY:Hallenfliegen Geschwister-Scholl-Schule
DESCRIPTION:
URL:https://mfsv-schallodenbach.de/event/hallenfliegen-geschwister-scholl-schule-42/
CATEGORIES:Hallenfliegen
END:VEVENT
BEGIN:VEVENT
DTSTART;TZID=UTC:20251213T160000
DTEND;TZID=UTC:20251213T180000
DTSTAMP:20260422T160051
CREATED:20251202T143406Z
LAST-MODIFIED:20251202T143406Z
UID:1506-1765641600-1765648800@mfsv-schallodenbach.de
SUMMARY:Hallenfliegen Geschwister-Scholl-Schule
DESCRIPTION:
URL:https://mfsv-schallodenbach.de/event/hallenfliegen-geschwister-scholl-schule-41/
CATEGORIES:Hallenfliegen
END:VEVENT
BEGIN:VEVENT
DTSTART;TZID=UTC:20251206T160000
DTEND;TZID=UTC:20251206T180000
DTSTAMP:20260422T160051
CREATED:20251202T143316Z
LAST-MODIFIED:20251202T143316Z
UID:1504-1765036800-1765044000@mfsv-schallodenbach.de
SUMMARY:Hallenfliegen Geschwister-Scholl-Schule
DESCRIPTION:
URL:https://mfsv-schallodenbach.de/event/hallenfliegen-geschwister-scholl-schule-40/
CATEGORIES:Hallenfliegen
END:VEVENT
BEGIN:VEVENT
DTSTART;TZID=UTC:20250413T160000
DTEND;TZID=UTC:20250413T180000
DTSTAMP:20260422T160051
CREATED:20241127T174509Z
LAST-MODIFIED:20241127T174509Z
UID:1456-1744560000-1744567200@mfsv-schallodenbach.de
SUMMARY:Hallenfliegen Geschwister-Scholl-Schule
DESCRIPTION:
URL:https://mfsv-schallodenbach.de/event/hallenfliegen-geschwister-scholl-schule-39/
LOCATION:Geschwister-Scholl-Schule\, Schreberstraße 37\, Kaiserslautern\, Rheinland-Pfalz\, 67657\, Germany
CATEGORIES:Hallenfliegen
END:VEVENT
BEGIN:VEVENT
DTSTART;TZID=UTC:20250406T160000
DTEND;TZID=UTC:20250406T180000
DTSTAMP:20260422T160051
CREATED:20241127T174445Z
LAST-MODIFIED:20241127T174445Z
UID:1454-1743955200-1743962400@mfsv-schallodenbach.de
SUMMARY:Hallenfliegen Geschwister-Scholl-Schule
DESCRIPTION:
URL:https://mfsv-schallodenbach.de/event/hallenfliegen-geschwister-scholl-schule-38/
LOCATION:Geschwister-Scholl-Schule\, Schreberstraße 37\, Kaiserslautern\, Rheinland-Pfalz\, 67657\, Germany
CATEGORIES:Hallenfliegen
END:VEVENT
BEGIN:VEVENT
DTSTART;TZID=UTC:20250330T160000
DTEND;TZID=UTC:20250330T180000
DTSTAMP:20260422T160051
CREATED:20241127T174413Z
LAST-MODIFIED:20241127T174413Z
UID:1452-1743350400-1743357600@mfsv-schallodenbach.de
SUMMARY:Hallenfliegen Geschwister-Scholl-Schule
DESCRIPTION:
URL:https://mfsv-schallodenbach.de/event/hallenfliegen-geschwister-scholl-schule-37/
LOCATION:Geschwister-Scholl-Schule\, Schreberstraße 37\, Kaiserslautern\, Rheinland-Pfalz\, 67657\, Germany
CATEGORIES:Hallenfliegen
END:VEVENT
BEGIN:VEVENT
DTSTART;TZID=UTC:20250325T140000
DTEND;TZID=UTC:20250329T170000
DTSTAMP:20260422T160051
CREATED:20250325T082356Z
LAST-MODIFIED:20250327T091925Z
UID:1476-1742911200-1743267600@mfsv-schallodenbach.de
SUMMARY:Arbeitseinsatz vorverlegt auf Freitag\, 28.März
DESCRIPTION:Die Erdarbeiten sind abgeschlossen\, der Platz ist mit einer Baustahlmatte einwandfrei eingeebnet und aufgelockert. Bevor wir mit der Aussaat beginnen können\, müssen auf der neu angelegten Fläche alle Steine von Hand aufgelesen und beseitigt werden. Nach der Aussaat muss der Platz gewalzt werden\, damit würden wir die jetzt frei liegenden Steine wieder in den Boden drücken. Das macht keinen Sinn. \nDeswegen hiermit der Aufruf: Bitte kommt ab sofort jederzeit wie ihr es einrichten könnt zum Steineauflesen – unabhängig vom geplanten Arbeitseinsatz. Die Arbeitsstunden schreibt ihr euch genau so auf wie beim allgemeinen Arbeitseinsatz.\nDer allgemeine Arbeitseinsatz wird aufgrund des Regens am Samstag vorverlegt auf  Freitag\, 28.März 2025 um 14:00 Uhr. \nWir wollen am Freitag Nachmittag bereits säen\, um den Regen am Samstag “mitzunehmen”. \nBringt bitte Hilfsmittel mit\, die geeignet sind\, um Steine aus dem Rasen und dem Boden zu entfernen\, Unebenheiten im Boden zu begradigen\, usw… (Rechen\, Schaufel\, Schubkarren\, …)\nBitte schaut vor Samstag erneut hier rein\, falls es noch ein Update gibt. \nDer Düngerstreuer zum Säen funktioniert und die Walze ist weitestgehend repariert. Falls jemand eine Möglichkeit kennt\, Wasser in großer Menge (20.000 Liter) auf das Fluggelände zu bringen\, wäre es eine große Hilfe. \n 
URL:https://mfsv-schallodenbach.de/event/arbeitseinsatz-6/
LOCATION:Flugplatz
CATEGORIES:Arbeitseinsatz
END:VEVENT
BEGIN:VEVENT
DTSTART;TZID=UTC:20250323T160000
DTEND;TZID=UTC:20250323T180000
DTSTAMP:20260422T160051
CREATED:20241127T174338Z
LAST-MODIFIED:20241127T174338Z
UID:1450-1742745600-1742752800@mfsv-schallodenbach.de
SUMMARY:Hallenfliegen Geschwister-Scholl-Schule
DESCRIPTION:
URL:https://mfsv-schallodenbach.de/event/hallenfliegen-geschwister-scholl-schule-36/
LOCATION:Geschwister-Scholl-Schule\, Schreberstraße 37\, Kaiserslautern\, Rheinland-Pfalz\, 67657\, Germany
CATEGORIES:Hallenfliegen
END:VEVENT
BEGIN:VEVENT
DTSTART;TZID=UTC:20250316T160000
DTEND;TZID=UTC:20250316T180000
DTSTAMP:20260422T160051
CREATED:20241127T174308Z
LAST-MODIFIED:20241127T174308Z
UID:1448-1742140800-1742148000@mfsv-schallodenbach.de
SUMMARY:Hallenfliegen Geschwister-Scholl-Schule
DESCRIPTION:
URL:https://mfsv-schallodenbach.de/event/hallenfliegen-geschwister-scholl-schule-35/
LOCATION:Geschwister-Scholl-Schule\, Schreberstraße 37\, Kaiserslautern\, Rheinland-Pfalz\, 67657\, Germany
CATEGORIES:Hallenfliegen
END:VEVENT
BEGIN:VEVENT
DTSTART;TZID=UTC:20250309T160000
DTEND;TZID=UTC:20250309T180000
DTSTAMP:20260422T160051
CREATED:20241127T174242Z
LAST-MODIFIED:20241127T174242Z
UID:1446-1741536000-1741543200@mfsv-schallodenbach.de
SUMMARY:Hallenfliegen Geschwister-Scholl-Schule
DESCRIPTION:
URL:https://mfsv-schallodenbach.de/event/hallenfliegen-geschwister-scholl-schule-34/
LOCATION:Geschwister-Scholl-Schule\, Schreberstraße 37\, Kaiserslautern\, Rheinland-Pfalz\, 67657\, Germany
CATEGORIES:Hallenfliegen
END:VEVENT
BEGIN:VEVENT
DTSTART;TZID=UTC:20250307T190000
DTEND;TZID=UTC:20250307T210000
DTSTAMP:20260422T160052
CREATED:20250212T141957Z
LAST-MODIFIED:20250212T142015Z
UID:1462-1741374000-1741381200@mfsv-schallodenbach.de
SUMMARY:Jahreshauptversammlung 2025
DESCRIPTION:Am 07.03.2025 findet um 19:00 Uhr unsere diesjährige Jahreshauptversammlung statt. \nLeider konnten wir in Schallodenbach keinen passenden Termin finden\, an dem die Schlemmerhütte geöffnet ist. Wir sind deswegen nach Mehlbach ausgewichen in die Gaststätte “s’Wow” an der Pfalzwaldhalle (Ortsausgang Richtung Schallodenbach). Dort haben wir einen Nebenraum für uns alleine und das Essen soll (den Berichten nach) gut sein. \nIhr bekommt zeitnah noch eine offizielle Einladung per E-Mail. \nÜber zahlreiches Erscheinen würden wir uns freuen.
URL:https://mfsv-schallodenbach.de/event/jahreshauptversammlung-2025/
LOCATION:Gaststätte “s’Wow” Mehlbach\, Hauptstr. 117\, Mehlbach\, 67735
CATEGORIES:Sitzung
END:VEVENT
BEGIN:VEVENT
DTSTART;TZID=UTC:20250302T160000
DTEND;TZID=UTC:20250302T180000
DTSTAMP:20260422T160052
CREATED:20241127T174208Z
LAST-MODIFIED:20241127T174208Z
UID:1444-1740931200-1740938400@mfsv-schallodenbach.de
SUMMARY:Hallenfliegen Geschwister-Scholl-Schule
DESCRIPTION:
URL:https://mfsv-schallodenbach.de/event/hallenfliegen-geschwister-scholl-schule-33/
LOCATION:Geschwister-Scholl-Schule\, Schreberstraße 37\, Kaiserslautern\, Rheinland-Pfalz\, 67657\, Germany
CATEGORIES:Hallenfliegen
END:VEVENT
BEGIN:VEVENT
DTSTART;TZID=UTC:20250223T160000
DTEND;TZID=UTC:20250223T180000
DTSTAMP:20260422T160052
CREATED:20241127T174125Z
LAST-MODIFIED:20241127T174125Z
UID:1442-1740326400-1740333600@mfsv-schallodenbach.de
SUMMARY:Hallenfliegen Geschwister-Scholl-Schule
DESCRIPTION:
URL:https://mfsv-schallodenbach.de/event/hallenfliegen-geschwister-scholl-schule-32/
LOCATION:Geschwister-Scholl-Schule\, Schreberstraße 37\, Kaiserslautern\, Rheinland-Pfalz\, 67657\, Germany
CATEGORIES:Hallenfliegen
END:VEVENT
BEGIN:VEVENT
DTSTART;TZID=UTC:20250216T160000
DTEND;TZID=UTC:20250216T180000
DTSTAMP:20260422T160052
CREATED:20241127T174059Z
LAST-MODIFIED:20241127T174059Z
UID:1440-1739721600-1739728800@mfsv-schallodenbach.de
SUMMARY:Hallenfliegen Geschwister-Scholl-Schule
DESCRIPTION:
URL:https://mfsv-schallodenbach.de/event/hallenfliegen-geschwister-scholl-schule-31/
LOCATION:Geschwister-Scholl-Schule\, Schreberstraße 37\, Kaiserslautern\, Rheinland-Pfalz\, 67657\, Germany
CATEGORIES:Hallenfliegen
END:VEVENT
BEGIN:VEVENT
DTSTART;TZID=UTC:20250209T160000
DTEND;TZID=UTC:20250209T180000
DTSTAMP:20260422T160052
CREATED:20241127T174029Z
LAST-MODIFIED:20241127T174029Z
UID:1438-1739116800-1739124000@mfsv-schallodenbach.de
SUMMARY:Hallenfliegen Geschwister-Scholl-Schule
DESCRIPTION:
URL:https://mfsv-schallodenbach.de/event/hallenfliegen-geschwister-scholl-schule-30/
LOCATION:Geschwister-Scholl-Schule\, Schreberstraße 37\, Kaiserslautern\, Rheinland-Pfalz\, 67657\, Germany
CATEGORIES:Hallenfliegen
END:VEVENT
BEGIN:VEVENT
DTSTART;TZID=UTC:20250202T160000
DTEND;TZID=UTC:20250202T180000
DTSTAMP:20260422T160052
CREATED:20241127T174005Z
LAST-MODIFIED:20241127T174005Z
UID:1436-1738512000-1738519200@mfsv-schallodenbach.de
SUMMARY:Hallenfliegen Geschwister-Scholl-Schule
DESCRIPTION:
URL:https://mfsv-schallodenbach.de/event/hallenfliegen-geschwister-scholl-schule-29/
LOCATION:Geschwister-Scholl-Schule\, Schreberstraße 37\, Kaiserslautern\, Rheinland-Pfalz\, 67657\, Germany
CATEGORIES:Hallenfliegen
END:VEVENT
BEGIN:VEVENT
DTSTART;TZID=UTC:20250119T160000
DTEND;TZID=UTC:20250119T180000
DTSTAMP:20260422T160052
CREATED:20241127T173934Z
LAST-MODIFIED:20241127T173934Z
UID:1434-1737302400-1737309600@mfsv-schallodenbach.de
SUMMARY:Hallenfliegen Geschwister-Scholl-Schule
DESCRIPTION:
URL:https://mfsv-schallodenbach.de/event/hallenfliegen-geschwister-scholl-schule-28/
LOCATION:Geschwister-Scholl-Schule\, Schreberstraße 37\, Kaiserslautern\, Rheinland-Pfalz\, 67657\, Germany
CATEGORIES:Hallenfliegen
END:VEVENT
BEGIN:VEVENT
DTSTART;TZID=UTC:20250112T160000
DTEND;TZID=UTC:20250112T180000
DTSTAMP:20260422T160052
CREATED:20241127T173905Z
LAST-MODIFIED:20241127T174527Z
UID:1432-1736697600-1736704800@mfsv-schallodenbach.de
SUMMARY:Hallenfliegen Geschwister-Scholl-Schule
DESCRIPTION:
URL:https://mfsv-schallodenbach.de/event/hallenfliegen-geschwister-scholl-schule-27/
LOCATION:Geschwister-Scholl-Schule\, Schreberstraße 37\, Kaiserslautern\, Rheinland-Pfalz\, 67657\, Germany
CATEGORIES:Hallenfliegen
END:VEVENT
BEGIN:VEVENT
DTSTART;TZID=UTC:20241214T160000
DTEND;TZID=UTC:20241214T180000
DTSTAMP:20260422T160052
CREATED:20241127T173823Z
LAST-MODIFIED:20241127T173823Z
UID:1430-1734192000-1734199200@mfsv-schallodenbach.de
SUMMARY:Hallenfliegen Geschwister-Scholl-Schule
DESCRIPTION:
URL:https://mfsv-schallodenbach.de/event/hallenfliegen-geschwister-scholl-schule-26/
LOCATION:Geschwister-Scholl-Schule\, Schreberstraße 37\, Kaiserslautern\, Rheinland-Pfalz\, 67657\, Germany
CATEGORIES:Hallenfliegen
END:VEVENT
BEGIN:VEVENT
DTSTART;TZID=UTC:20241213T170000
DTEND;TZID=UTC:20241213T190000
DTSTAMP:20260422T160052
CREATED:20240924T161755Z
LAST-MODIFIED:20240924T161906Z
UID:1412-1734109200-1734116400@mfsv-schallodenbach.de
SUMMARY:Monatsgrillen
DESCRIPTION:Das Monatsgrillen immer am 13. findet auch in der kalten Jahreshälfte statt.
URL:https://mfsv-schallodenbach.de/event/monatsgrillen-18/
LOCATION:Flugplatz
CATEGORIES:Monatstreffen
END:VEVENT
BEGIN:VEVENT
DTSTART;TZID=UTC:20241208T160000
DTEND;TZID=UTC:20241208T180000
DTSTAMP:20260422T160052
CREATED:20241127T173717Z
LAST-MODIFIED:20241127T173717Z
UID:1428-1733673600-1733680800@mfsv-schallodenbach.de
SUMMARY:Hallenfliegen Geschwister-Scholl-Schule
DESCRIPTION:
URL:https://mfsv-schallodenbach.de/event/hallenfliegen-geschwister-scholl-schule-25/
LOCATION:Geschwister-Scholl-Schule\, Schreberstraße 37\, Kaiserslautern\, Rheinland-Pfalz\, 67657\, Germany
CATEGORIES:Hallenfliegen
END:VEVENT
BEGIN:VEVENT
DTSTART;TZID=Europe/Paris:20241201T160000
DTEND;TZID=Europe/Paris:20241201T180000
DTSTAMP:20260422T160052
CREATED:20241127T173302Z
LAST-MODIFIED:20241127T173621Z
UID:1424-1733068800-1733076000@mfsv-schallodenbach.de
SUMMARY:Hallenfliegen Geschwister-Scholl-Schule
DESCRIPTION:
URL:https://mfsv-schallodenbach.de/event/hallenfliegen-geschwister-scholl-schule-24/
LOCATION:Geschwister-Scholl-Schule\, Schreberstraße 37\, Kaiserslautern\, Rheinland-Pfalz\, 67657\, Germany
CATEGORIES:Hallenfliegen
END:VEVENT
END:VCALENDAR